BEGIN:VCALENDAR
VERSION:2.0
PRODID:-//The Fuquay-Varina Twins - ECPv6.15.20//NONSGML v1.0//EN
CALSCALE:GREGORIAN
METHOD:PUBLISH
X-WR-CALNAME:The Fuquay-Varina Twins
X-ORIGINAL-URL:https://fvtwins.org
X-WR-CALDESC:Events for The Fuquay-Varina Twins
REFRESH-INTERVAL;VALUE=DURATION:PT1H
X-Robots-Tag:noindex
X-PUBLISHED-TTL:PT1H
BEGIN:VTIMEZONE
TZID:America/New_York
BEGIN:DAYLIGHT
TZOFFSETFROM:-0500
TZOFFSETTO:-0400
TZNAME:EDT
DTSTART:20250309T070000
END:DAYLIGHT
BEGIN:STANDARD
TZOFFSETFROM:-0400
TZOFFSETTO:-0500
TZNAME:EST
DTSTART:20251102T060000
END:STANDARD
BEGIN:DAYLIGHT
TZOFFSETFROM:-0500
TZOFFSETTO:-0400
TZNAME:EDT
DTSTART:20260308T070000
END:DAYLIGHT
BEGIN:STANDARD
TZOFFSETFROM:-0400
TZOFFSETTO:-0500
TZNAME:EST
DTSTART:20261101T060000
END:STANDARD
BEGIN:DAYLIGHT
TZOFFSETFROM:-0500
TZOFFSETTO:-0400
TZNAME:EDT
DTSTART:20270314T070000
END:DAYLIGHT
BEGIN:STANDARD
TZOFFSETFROM:-0400
TZOFFSETTO:-0500
TZNAME:EST
DTSTART:20271107T060000
END:STANDARD
END:VTIMEZONE
BEGIN:VEVENT
DTSTART;TZID=America/New_York:20260606T150000
DTEND;TZID=America/New_York:20260606T213000
DTSTAMP:20260422T073516
CREATED:20260330T001530Z
LAST-MODIFIED:20260404T185623Z
UID:5108-1780758000-1780781400@fvtwins.org
SUMMARY:F-V T @ Augusta Lg D/H
DESCRIPTION:
URL:https://fvtwins.org/event/f-v-t-vs-red-springs-lg7-f-v-t-lillington-lg7/
LOCATION:Veredery Field\, 1337 Flowing Wells Rd\, Lillington\, GA\, United States
END:VEVENT
END:VCALENDAR