BEGIN:VCALENDAR
VERSION:2.0
PRODID:-//The Fuquay-Varina Twins - ECPv6.15.20//NONSGML v1.0//EN
CALSCALE:GREGORIAN
METHOD:PUBLISH
X-WR-CALNAME:The Fuquay-Varina Twins
X-ORIGINAL-URL:https://fvtwins.org
X-WR-CALDESC:Events for The Fuquay-Varina Twins
REFRESH-INTERVAL;VALUE=DURATION:PT1H
X-Robots-Tag:noindex
X-PUBLISHED-TTL:PT1H
BEGIN:VTIMEZONE
TZID:America/New_York
BEGIN:DAYLIGHT
TZOFFSETFROM:-0500
TZOFFSETTO:-0400
TZNAME:EDT
DTSTART:20240310T070000
END:DAYLIGHT
BEGIN:STANDARD
TZOFFSETFROM:-0400
TZOFFSETTO:-0500
TZNAME:EST
DTSTART:20241103T060000
END:STANDARD
BEGIN:DAYLIGHT
TZOFFSETFROM:-0500
TZOFFSETTO:-0400
TZNAME:EDT
DTSTART:20250309T070000
END:DAYLIGHT
BEGIN:STANDARD
TZOFFSETFROM:-0400
TZOFFSETTO:-0500
TZNAME:EST
DTSTART:20251102T060000
END:STANDARD
BEGIN:DAYLIGHT
TZOFFSETFROM:-0500
TZOFFSETTO:-0400
TZNAME:EDT
DTSTART:20260308T070000
END:DAYLIGHT
BEGIN:STANDARD
TZOFFSETFROM:-0400
TZOFFSETTO:-0500
TZNAME:EST
DTSTART:20261101T060000
END:STANDARD
BEGIN:DAYLIGHT
TZOFFSETFROM:-0500
TZOFFSETTO:-0400
TZNAME:EDT
DTSTART:20270314T070000
END:DAYLIGHT
BEGIN:STANDARD
TZOFFSETFROM:-0400
TZOFFSETTO:-0500
TZNAME:EST
DTSTART:20271107T060000
END:STANDARD
END:VTIMEZONE
BEGIN:VEVENT
DTSTART;TZID=America/New_York:20260603T170000
DTEND;TZID=America/New_York:20260603T223000
DTSTAMP:20260422T103116
CREATED:20260329T222654Z
LAST-MODIFIED:20260330T001258Z
UID:5106-1780506000-1780525800@fvtwins.org
SUMMARY:F-V T Vs Greensboro D/H Ex
DESCRIPTION:
URL:https://fvtwins.org/event/f-v-t-vs-greensboro-d-h-ex/
LOCATION:Chamber Field\, 315 S 1st Street\, Lillington\, NC\, 27546\, United States
END:VEVENT
BEGIN:VEVENT
DTSTART;TZID=America/New_York:20260531T150000
DTEND;TZID=America/New_York:20260531T200000
DTSTAMP:20260422T103116
CREATED:20260329T222400Z
LAST-MODIFIED:20260330T005259Z
UID:5104-1780239600-1780257600@fvtwins.org
SUMMARY:F-V T @ Post 10 Ex D/H
DESCRIPTION:
URL:https://fvtwins.org/event/f-v-t-posy-10-ex-d-h/
LOCATION:Buck hardee Stadium\, Select a Country:
END:VEVENT
BEGIN:VEVENT
DTSTART;TZID=America/New_York:20260530T140000
DTEND;TZID=America/New_York:20260530T200000
DTSTAMP:20260422T103116
CREATED:20260329T222246Z
LAST-MODIFIED:20260329T222246Z
UID:5102-1780149600-1780171200@fvtwins.org
SUMMARY:F-V T @ Fayetteville Y @ Red Springs K LG 7's
DESCRIPTION:
URL:https://fvtwins.org/event/f-v-t-fayetteville-y-red-springs-k-lg-7s/
LOCATION:Tom Cope Field\, 119 Graham St.\, Red Springs\, NC\, 28377
END:VEVENT
BEGIN:VEVENT
DTSTART;TZID=America/New_York:20260529T170000
DTEND;TZID=America/New_York:20260529T220000
DTSTAMP:20260422T103116
CREATED:20260329T222109Z
LAST-MODIFIED:20260329T222109Z
UID:5100-1780074000-1780092000@fvtwins.org
SUMMARY:F-V T Vs . Climax D/H EX
DESCRIPTION:
URL:https://fvtwins.org/event/f-v-t-vs-climax-d-h-ex/
LOCATION:Chamber Field\, 315 S 1st Street\, Lillington\, NC\, 27546\, United States
END:VEVENT
BEGIN:VEVENT
DTSTART;TZID=America/New_York:20260524T140000
DTEND;TZID=America/New_York:20260524T170000
DTSTAMP:20260422T103116
CREATED:20260329T221915Z
LAST-MODIFIED:20260329T221915Z
UID:5098-1779631200-1779642000@fvtwins.org
SUMMARY:Practice
DESCRIPTION:
URL:https://fvtwins.org/event/practice-29/
LOCATION:Chamber Field\, 315 S 1st Street\, Lillington\, NC\, 27546\, United States
END:VEVENT
BEGIN:VEVENT
DTSTART;TZID=America/New_York:20260523T140000
DTEND;TZID=America/New_York:20260523T170000
DTSTAMP:20260422T103116
CREATED:20260329T221717Z
LAST-MODIFIED:20260329T221717Z
UID:5094-1779544800-1779555600@fvtwins.org
SUMMARY:Practice
DESCRIPTION:
URL:https://fvtwins.org/event/practice-28/
LOCATION:Chamber Field\, 315 S 1st Street\, Lillington\, NC\, 27546\, United States
END:VEVENT
BEGIN:VEVENT
DTSTART;TZID=America/New_York:20260517T140000
DTEND;TZID=America/New_York:20260517T170000
DTSTAMP:20260422T103116
CREATED:20260329T220322Z
LAST-MODIFIED:20260329T220322Z
UID:5088-1779026400-1779037200@fvtwins.org
SUMMARY:Practice
DESCRIPTION:
URL:https://fvtwins.org/event/practice-25/
LOCATION:Chamber Field\, 315 S 1st Street\, Lillington\, NC\, 27546\, United States
END:VEVENT
BEGIN:VEVENT
DTSTART;TZID=America/New_York:20260516T140000
DTEND;TZID=America/New_York:20260516T170000
DTSTAMP:20260422T103116
CREATED:20260329T221414Z
LAST-MODIFIED:20260330T005414Z
UID:5090-1778940000-1778950800@fvtwins.org
SUMMARY:Practice
DESCRIPTION:
URL:https://fvtwins.org/event/practice-27/
LOCATION:Chamber Field\, 315 S 1st Street\, Lillington\, NC\, 27546\, United States
END:VEVENT
BEGIN:VEVENT
DTSTART;TZID=America/New_York:20250803T170000
DTEND;TZID=America/New_York:20250803T193000
DTSTAMP:20260422T103116
CREATED:20250323T195024Z
LAST-MODIFIED:20250802T194643Z
UID:4803-1754240400-1754249400@fvtwins.org
SUMMARY:W#1 Greensboro Vs W#2 Wilson G4 7
DESCRIPTION:
URL:https://fvtwins.org/event/w3-vs-w-5-tourn-7/
LOCATION:Chamber Field\, 315 S 1st Street\, Lillington\, NC\, 27546\, United States
END:VEVENT
BEGIN:VEVENT
DTSTART;TZID=America/New_York:20250803T143000
DTEND;TZID=America/New_York:20250803T163000
DTSTAMP:20260422T103116
CREATED:20250509T000743Z
LAST-MODIFIED:20250802T194520Z
UID:4873-1754231400-1754238600@fvtwins.org
SUMMARY:Loser #1 F-V T Vs L #2 Lillington G#3
DESCRIPTION:
URL:https://fvtwins.org/event/game-9-if-7/
LOCATION:Chamber Field\, 315 S 1st Street\, Lillington\, NC\, 27546\, United States
END:VEVENT
BEGIN:VEVENT
DTSTART;TZID=America/New_York:20250802T180000
DTEND;TZID=America/New_York:20250802T210000
DTSTAMP:20260422T103116
CREATED:20250508T235905Z
LAST-MODIFIED:20250802T194007Z
UID:4866-1754157600-1754168400@fvtwins.org
SUMMARY:W#5 vs W#3 Tourn 7  G6 Rainout
DESCRIPTION:
URL:https://fvtwins.org/event/w5-vs-l3-tourn-7-g6/
LOCATION:Chamber Field\, 315 S 1st Street\, Lillington\, NC\, 27546\, United States
END:VEVENT
BEGIN:VEVENT
DTSTART;TZID=America/New_York:20250802T170000
DTEND;TZID=America/New_York:20250802T200000
DTSTAMP:20260422T103116
CREATED:20250509T000500Z
LAST-MODIFIED:20250802T194724Z
UID:4870-1754154000-1754164800@fvtwins.org
SUMMARY:w1  vs w2   Tourn 7 G4 7 Mushy Field
DESCRIPTION:
URL:https://fvtwins.org/event/w5-vs-w7-tourn-7-g8/
LOCATION:Chamber Field\, 315 S 1st Street\, Lillington\, NC\, 27546\, United States
END:VEVENT
BEGIN:VEVENT
DTSTART;TZID=America/New_York:20250801T160000
DTEND;TZID=America/New_York:20250801T183000
DTSTAMP:20260422T103116
CREATED:20250323T194906Z
LAST-MODIFIED:20250802T193946Z
UID:4801-1754064000-1754073000@fvtwins.org
SUMMARY:W#4 Vs L#3 Tourn   7    G5 rainout
DESCRIPTION:
URL:https://fvtwins.org/event/w4vs-l3-tourn/
LOCATION:Chamber Field\, 315 S 1st Street\, Lillington\, NC\, 27546\, United States
END:VEVENT
BEGIN:VEVENT
DTSTART;TZID=America/New_York:20250731T200000
DTEND;TZID=America/New_York:20250731T223000
DTSTAMP:20260422T103116
CREATED:20250508T235515Z
LAST-MODIFIED:20250802T193856Z
UID:4862-1753992000-1754001000@fvtwins.org
SUMMARY:W#1 vs W#2 7 Tourn    G4 Rainout
DESCRIPTION:
URL:https://fvtwins.org/event/l1-vs-l2-7tourn-g4/
LOCATION:Chamber Field\, 315 S 1st Street\, Lillington\, NC\, 27546\, United States
END:VEVENT
BEGIN:VEVENT
DTSTART;TZID=America/New_York:20250731T170000
DTEND;TZID=America/New_York:20250731T193000
DTSTAMP:20260422T103116
CREATED:20250323T194613Z
LAST-MODIFIED:20250802T193833Z
UID:4799-1753981200-1753990200@fvtwins.org
SUMMARY:L#1 Vs L2 Tourn 7       G4 Rainout
DESCRIPTION:
URL:https://fvtwins.org/event/w1-vs-w2-tourn-7/
LOCATION:Chamber Field\, 315 S 1st Street\, Lillington\, NC\, 27546\, United States
END:VEVENT
BEGIN:VEVENT
DTSTART;TZID=America/New_York:20250730T210000
DTEND;TZID=America/New_York:20250730T230000
DTSTAMP:20260422T103116
CREATED:20250323T194421Z
LAST-MODIFIED:20250802T193805Z
UID:4797-1753909200-1753916400@fvtwins.org
SUMMARY:#1 Lillington-2 Vs #4 Wilson-14  Tourn 7  G2
DESCRIPTION:
URL:https://fvtwins.org/event/2vs-3-tourn-7/
LOCATION:Chamber Field\, 315 S 1st Street\, Lillington\, NC\, 27546\, United States
END:VEVENT
BEGIN:VEVENT
DTSTART;TZID=America/New_York:20250730T170000
DTEND;TZID=America/New_York:20250730T193000
DTSTAMP:20260422T103116
CREATED:20250323T194252Z
LAST-MODIFIED:20250802T193734Z
UID:4795-1753894800-1753903800@fvtwins.org
SUMMARY:#2 Greensboro Vs #3 F-V T   Tourn 7    G1 L 4-7
DESCRIPTION:
URL:https://fvtwins.org/event/1vs-4-tourn-7/
LOCATION:Chamber Field\, 315 S 1st Street\, Lillington\, NC\, 27546\, United States
END:VEVENT
BEGIN:VEVENT
DTSTART;TZID=America/New_York:20250727T180000
DTEND;TZID=America/New_York:20250727T210000
DTSTAMP:20260422T103116
CREATED:20250508T235106Z
LAST-MODIFIED:20250729T015907Z
UID:4857-1753639200-1753650000@fvtwins.org
SUMMARY:F-V T Vs. Wilson I  LG 9 L 10-0
DESCRIPTION:
URL:https://fvtwins.org/event/f-v-t-wilson-i-lg-dh-2/
LOCATION:Chamber Field\, 315 S 1st Street\, Lillington\, NC\, 27546\, United States
END:VEVENT
BEGIN:VEVENT
DTSTART;TZID=America/New_York:20250726T180000
DTEND;TZID=America/New_York:20250726T210000
DTSTAMP:20260422T103116
CREATED:20250323T194110Z
LAST-MODIFIED:20250729T015844Z
UID:4793-1753552800-1753563600@fvtwins.org
SUMMARY:F-V  Vs. Wilson I LG 9 Picture Day L 12-8
DESCRIPTION:
URL:https://fvtwins.org/event/f-v-fayetteville-ex-dh/
LOCATION:Chamber Field\, 315 S 1st Street\, Lillington\, NC\, 27546\, United States
END:VEVENT
BEGIN:VEVENT
DTSTART;TZID=America/New_York:20250723T170000
DTEND;TZID=America/New_York:20250723T223000
DTSTAMP:20260422T103116
CREATED:20250323T195854Z
LAST-MODIFIED:20250725T190103Z
UID:4808-1753290000-1753309800@fvtwins.org
SUMMARY:F-V Twins @ Lillington Lg DH  L4-7 W 15-4
DESCRIPTION:
URL:https://fvtwins.org/event/f-v-twins-lillington-lg-dh-3/
LOCATION:Chamber Field\, 315 S 1st Street\, Lillington\, NC\, 27546\, United States
END:VEVENT
BEGIN:VEVENT
DTSTART;TZID=America/New_York:20250720T170500
DTEND;TZID=America/New_York:20250720T210000
DTSTAMP:20260422T103116
CREATED:20250323T192936Z
LAST-MODIFIED:20250722T020319Z
UID:4790-1753031100-1753045200@fvtwins.org
SUMMARY:F-V @ Holly Springs Ex 9 L 1-14
DESCRIPTION:
URL:https://fvtwins.org/event/f-v-holly-springs-ex-9/
LOCATION:Ting Park\, 101 Sportsmanship Way\, Holly springs\, NC\, 27540\, United States
END:VEVENT
BEGIN:VEVENT
DTSTART;TZID=America/New_York:20250719T140000
DTEND;TZID=America/New_York:20250719T183000
DTSTAMP:20260422T103116
CREATED:20250323T192544Z
LAST-MODIFIED:20250722T020215Z
UID:4788-1752933600-1752949800@fvtwins.org
SUMMARY:F-V Twins @ Lillington Lg DH  L5-14   INC 5-0
DESCRIPTION:
URL:https://fvtwins.org/event/f-v-twins-lillington-lg-dh-2/
LOCATION:Chamber Field\, 315 S 1st Street\, Lillington\, NC\, 27546\, United States
END:VEVENT
BEGIN:VEVENT
DTSTART;TZID=America/New_York:20250716T183000
DTEND;TZID=America/New_York:20250716T183000
DTSTAMP:20260422T103116
CREATED:20250712T163257Z
LAST-MODIFIED:20250722T020053Z
UID:4992-1752690600-1752690600@fvtwins.org
SUMMARY:F-V T @ Wilson I LG 9  Rainout
DESCRIPTION:
URL:https://fvtwins.org/event/f-v-t-wilson-i-lg-9/
LOCATION:Fike HS\, 500 Harrison Ave\, Wilson\, NC\, 27893
END:VEVENT
BEGIN:VEVENT
DTSTART;TZID=America/New_York:20250715T180000
DTEND;TZID=America/New_York:20250715T230000
DTSTAMP:20260422T103116
CREATED:20250323T192439Z
LAST-MODIFIED:20250722T020018Z
UID:4786-1752602400-1752620400@fvtwins.org
SUMMARY:F-V Twins @ Greensboro LG  9 Rainout
DESCRIPTION:
URL:https://fvtwins.org/event/f-v-twins-greensboro-lg-dh-2/
LOCATION:Northwest  Guilford HS\, 5240 Northwest School Rd\, Greensboro\, NC\, 27401\, United States
END:VEVENT
BEGIN:VEVENT
DTSTART;TZID=America/New_York:20250713T140000
DTEND;TZID=America/New_York:20250713T183000
DTSTAMP:20260422T103116
CREATED:20250323T192202Z
LAST-MODIFIED:20250712T163058Z
UID:4783-1752415200-1752431400@fvtwins.org
SUMMARY:F-V Vs  Lexington Donkeys Ex DH NO SHOWS
DESCRIPTION:
URL:https://fvtwins.org/event/f-v-lexington-ex-dh/
LOCATION:Chamber Field\, 315 S 1st Street\, Lillington\, NC\, 27546\, United States
END:VEVENT
BEGIN:VEVENT
DTSTART;TZID=America/New_York:20250712T140000
DTEND;TZID=America/New_York:20250712T183000
DTSTAMP:20260422T103116
CREATED:20250323T191444Z
LAST-MODIFIED:20250712T163023Z
UID:4781-1752328800-1752345000@fvtwins.org
SUMMARY:F-V Vs Lillington Lg DH Soaked field
DESCRIPTION:
URL:https://fvtwins.org/event/f-v-vs-lillington-lg-dh/
LOCATION:Chamber Field\, 315 S 1st Street\, Lillington\, NC\, 27546\, United States
END:VEVENT
BEGIN:VEVENT
DTSTART;TZID=America/New_York:20250709T170000
DTEND;TZID=America/New_York:20250709T220000
DTSTAMP:20260422T103116
CREATED:20250323T191340Z
LAST-MODIFIED:20250712T162949Z
UID:4779-1752080400-1752098400@fvtwins.org
SUMMARY:F-V Vs Greensboro Lg DH W7-8 W 7-8
DESCRIPTION:
URL:https://fvtwins.org/event/f-v-vs-greensboro-lg-dh/
LOCATION:Chamber Field\, 315 S 1st Street\, Lillington\, NC\, 27546\, United States
END:VEVENT
BEGIN:VEVENT
DTSTART;TZID=America/New_York:20250708T170000
DTEND;TZID=America/New_York:20250708T223000
DTSTAMP:20260422T103116
CREATED:20250706T182216Z
LAST-MODIFIED:20250712T162921Z
UID:4980-1751994000-1752013800@fvtwins.org
SUMMARY:F-V T Vs  Greensboro Y EX  DH Rainout
DESCRIPTION:
URL:https://fvtwins.org/event/f-v-t-vs-greensboro-y-ex-dh/
LOCATION:Chamber Field\, 315 S 1st Street\, Lillington\, NC\, 27546\, United States
END:VEVENT
BEGIN:VEVENT
DTSTART;TZID=America/New_York:20250706T183000
DTEND;TZID=America/New_York:20250706T210000
DTSTAMP:20260422T103116
CREATED:20250706T182049Z
LAST-MODIFIED:20250706T182049Z
UID:4978-1751826600-1751835600@fvtwins.org
SUMMARY:F=V T @ Sanford EX 9 No Show
DESCRIPTION:
URL:https://fvtwins.org/event/fv-t-sanford-ex-9-no-show/
LOCATION:Southern Lee HS\, 2301\, Tramway St HWY 78\, NC\, 27332\, United States
END:VEVENT
BEGIN:VEVENT
DTSTART;TZID=America/New_York:20250705T140000
DTEND;TZID=America/New_York:20250705T170000
DTSTAMP:20260422T103116
CREATED:20250513T024906Z
LAST-MODIFIED:20250706T181911Z
UID:4884-1751724000-1751734800@fvtwins.org
SUMMARY:F-V T @ Wilson I LG DH NO SHOW !
DESCRIPTION:
URL:https://fvtwins.org/event/f-v-ty-wilson-i-lg-dh/
LOCATION:Fike HS\, 500 Harrison Ave\, Wilson\, NC\, 27893
END:VEVENT
END:VCALENDAR